Workbook

Sheet Расчет NPV
A1: Расчет NPV инвестиционного проекта методом Монте-Карло
A2: Оранжевые ячейки можно менять. Симуляция — на листе «Симуляция» (5000 сценариев), МоделРиск — на отдельном листе. Статья: riskstrategy.ru/stati/analiz-riskov-investicionnogo-proekta/
A4: Фактор | B4: Минимум | C4: Наиболее вероятно | D4: Максимум | E4: α | F4: β
A5: Капитальные затраты, млн руб. | B5: 900 | C5: 1000 | D5: 1300 | E5: =1+4*(C5-B5)/(D5-B5) | F5: =1+4*(D5-C5)/(D5-B5)
A6: Цена продукции, тыс. руб./т | B6: 42 | C6: 50 | D6: 54 | E6: =1+4*(C6-B6)/(D6-B6) | F6: =1+4*(D6-C6)/(D6-B6)
A7: Объем продаж в первый полный год, тыс. т | B7: 30 | C7: 40 | D7: 44 | E7: =1+4*(C7-B7)/(D7-B7) | F7: =1+4*(D7-C7)/(D7-B7)
A8: Рост объема в год | B8: 0 | C8: 0.05 | D8: 0.08 | E8: =1+4*(C8-B8)/(D8-B8) | F8: =1+4*(D8-C8)/(D8-B8)
A9: Удельные переменные затраты, тыс. руб./т | B9: 30 | C9: 33 | D9: 39 | E9: =1+4*(C9-B9)/(D9-B9) | F9: =1+4*(D9-C9)/(D9-B9)
A10: Постоянные затраты, млн руб./год | B10: 110 | C10: 120 | D10: 140 | E10: =1+4*(C10-B10)/(D10-B10) | F10: =1+4*(D10-C10)/(D10-B10)
A12: Ставка дисконтирования | C12: 0.15
A13: Налог на прибыль | C13: 0.2
A14: Загрузка в первый год | C14: 0.6
A16: Денежный поток по наиболее вероятным значениям, млн руб.
A17: Год | B17: 0 | C17: 1 | D17: 2 | E17: 3 | F17: 4 | G17: 5 | H17: 6
A18: Объем, тыс. т | C18: =$C$7*(1+$C$8)^(1-1)*$C$14 | D18: =$C$7*(1+$C$8)^(2-1)*1 | E18: =$C$7*(1+$C$8)^(3-1)*1 | F18: =$C$7*(1+$C$8)^(4-1)*1 | G18: =$C$7*(1+$C$8)^(5-1)*1 | H18: =$C$7*(1+$C$8)^(6-1)*1
A19: EBITDA | C19: =C18*($C$6-$C$9)-$C$10 | D19: =D18*($C$6-$C$9)-$C$10 | E19: =E18*($C$6-$C$9)-$C$10 | F19: =F18*($C$6-$C$9)-$C$10 | G19: =G18*($C$6-$C$9)-$C$10 | H19: =H18*($C$6-$C$9)-$C$10
A20: Налог | C20: =MAX(C19-$C$5/6,0)*$C$13 | D20: =MAX(D19-$C$5/6,0)*$C$13 | E20: =MAX(E19-$C$5/6,0)*$C$13 | F20: =MAX(F19-$C$5/6,0)*$C$13 | G20: =MAX(G19-$C$5/6,0)*$C$13 | H20: =MAX(H19-$C$5/6,0)*$C$13
A21: Денежный поток | B21: =-C5 | C21: =C19-C20 | D21: =D19-D20 | E21: =E19-E20 | F21: =F19-F20 | G21: =G19-G20 | H21: =H19-H20
A23: NPV по наиболее вероятным значениям | C23: =B21+NPV(C12,C21:H21)
A25: Результаты по 5000 сценариям
A26: Среднее | B26: =AVERAGE('Симуляция'!$N$5:$N$5004)
A27: P10 | B27: =_xlfn.PERCENTILE.INC('Симуляция'!$N$5:$N$5004,0.1)
A28: P50 | B28: =_xlfn.PERCENTILE.INC('Симуляция'!$N$5:$N$5004,0.5)
A29: P80 | B29: =_xlfn.PERCENTILE.INC('Симуляция'!$N$5:$N$5004,0.8)
A30: P90 | B30: =_xlfn.PERCENTILE.INC('Симуляция'!$N$5:$N$5004,0.9)
A31: Вероятность убытка (NPV < 0) | B31: =COUNTIF('Симуляция'!$N$5:$N$5004,"<"&0)/COUNT('Симуляция'!$N$5:$N$5004)
A32: Вероятность ниже расчетного NPV | B32: =COUNTIF('Симуляция'!$N$5:$N$5004,"<"&C23)/COUNT('Симуляция'!$N$5:$N$5004)
A35: От | B35: До | C35: Сценариев
A36: -800 | B36: -660 | C36: =COUNTIFS('Симуляция'!$N$5:$N$5004,">="&A36,'Симуляция'!$N$5:$N$5004,"<"&B36)
A37: -660 | B37: -520 | C37: =COUNTIFS('Симуляция'!$N$5:$N$5004,">="&A37,'Симуляция'!$N$5:$N$5004,"<"&B37)
A38: -520 | B38: -380 | C38: =COUNTIFS('Симуляция'!$N$5:$N$5004,">="&A38,'Симуляция'!$N$5:$N$5004,"<"&B38)
A39: -380 | B39: -240 | C39: =COUNTIFS('Симуляция'!$N$5:$N$5004,">="&A39,'Симуляция'!$N$5:$N$5004,"<"&B39)
A40: -240 | B40: -100 | C40: =COUNTIFS('Симуляция'!$N$5:$N$5004,">="&A40,'Симуляция'!$N$5:$N$5004,"<"&B40)
A41: -100 | B41: 40 | C41: =COUNTIFS('Симуляция'!$N$5:$N$5004,">="&A41,'Симуляция'!$N$5:$N$5004,"<"&B41)
A42: 40 | B42: 180 | C42: =COUNTIFS('Симуляция'!$N$5:$N$5004,">="&A42,'Симуляция'!$N$5:$N$5004,"<"&B42)
A43: 180 | B43: 320 | C43: =COUNTIFS('Симуляция'!$N$5:$N$5004,">="&A43,'Симуляция'!$N$5:$N$5004,"<"&B43)
A44: 320 | B44: 460 | C44: =COUNTIFS('Симуляция'!$N$5:$N$5004,">="&A44,'Симуляция'!$N$5:$N$5004,"<"&B44)
A45: 460 | B45: 600 | C45: =COUNTIFS('Симуляция'!$N$5:$N$5004,">="&A45,'Симуляция'!$N$5:$N$5004,"<"&B45)
A46: 600 | B46: 740 | C46: =COUNTIFS('Симуляция'!$N$5:$N$5004,">="&A46,'Симуляция'!$N$5:$N$5004,"<"&B46)
A47: 740 | B47: 880 | C47: =COUNTIFS('Симуляция'!$N$5:$N$5004,">="&A47,'Симуляция'!$N$5:$N$5004,"<"&B47)
...

Sheet Симуляция
A1: Симуляция NPV: одна строка — один сценарий
A2: B–G — случайные значения факторов, H–M — дисконтированный денежный поток лет 1–6, N — NPV.
A4: Сценарий | B4: Капзатраты | C4: Цена | D4: Объем | E4: Рост | F4: Удельные затраты | G4: Постоянные затраты | H4: ДДП, год 1 | I4: ДДП, год 2 | J4: ДДП, год 3 | K4: ДДП, год 4 | L4: ДДП, год 5 | M4: ДДП, год 6 | N4: NPV
A5: 1 | B5: =_xlfn.BETA.INV(RAND(),'Расчет NPV'!$E$5,'Расчет NPV'!$F$5,'Расчет NPV'!$B$5,'Расчет NPV'!$D$5) | C5: =_xlfn.BETA.INV(RAND(),'Расчет NPV'!$E$6,'Расчет NPV'!$F$6,'Расчет NPV'!$B$6,'Расчет NPV'!$D$6) | D5: =_xlfn.BETA.INV(RAND(),'Расчет NPV'!$E$7,'Расчет NPV'!$F$7,'Расчет NPV'!$B$7,'Расчет NPV'!$D$7) | E5: =_xlfn.BETA.INV(RAND(),'Расчет NPV'!$E$8,'Расчет NPV'!$F$8,'Расчет NPV'!$B$8,'Расчет NPV'!$D$8) | F5: =_xlfn.BETA.INV(RAND(),'Расчет NPV'!$E$9,'Расчет NPV'!$F$9,'Расчет NPV'!$B$9,'Расчет NPV'!$D$9) | G5: =_xlfn.BETA.INV(RAND(),'Расчет NPV'!$E$10,'Расчет NPV'!$F$10,'Расчет NPV'!$B$10,'Расчет NPV'!$D$10) | H5: =((D5*(1+E5)^0*'Расчет NPV'!$C$14*(C5-F5)-G5)-MAX((D5*(1+E5)^0*'Расчет NPV'!$C$14*(C5-F5)-G5)-B5/6,0)*'Расчет NPV'!$C$13)/(1+'Расчет NPV'!$C$12)^1 | I5: =((D5*(1+E5)^1*(C5-F5)-G5)-MAX((D5*(1+E5)^1*(C5-F5)-G5)-B5/6,0)*'Расчет NPV'!$C$13)/(1+'Расчет NPV'!$C$12)^2 | J5: =((D5*(1+E5)^2*(C5-F5)-G5)-MAX((D5*(1+E5)^2*(C5-F5)-G5)-B5/6,0)*'Расчет NPV'!$C$13)/(1+'Расчет NPV'!$C$12)^3 | K5: =((D5*(1+E5)^3*(C5-F5)-G5)-MAX((D5*(1+E5)^3*(C5-F5)-G5)-B5/6,0)*'Расчет NPV'!$C$13)/(1+'Расчет NPV'!$C$12)^4 | L5: =((D5*(1+E5)^4*(C5-F5)-G5)-MAX((D5*(1+E5)^4*(C5-F5)-G5)-B5/6,0)*'Расчет NPV'!$C$13)/(1+'Расчет NPV'!$C$12)^5 | M5: =((D5*(1+E5)^5*(C5-F5)-G5)-MAX((D5*(1+E5)^5*(C5-F5)-G5)-B5/6,0)*'Расчет NPV'!$C$13)/(1+'Расчет NPV'!$C$12)^6 | N5: =SUM(H5:M5)-B5
A6: 2 | B6: =_xlfn.BETA.INV(RAND(),'Расчет NPV'!$E$5,'Расчет NPV'!$F$5,'Расчет NPV'!$B$5,'Расчет NPV'!$D$5) | C6: =_xlfn.BETA.INV(RAND(),'Расчет NPV'!$E$6,'Расчет NPV'!$F$6,'Расчет NPV'!$B$6,'Расчет NPV'!$D$6) | D6: =_xlfn.BETA.INV(RAND(),'Расчет NPV'!$E$7,'Расчет NPV'!$F$7,'Расчет NPV'!$B$7,'Расчет NPV'!$D$7) | E6: =_xlfn.BETA.INV(RAND(),'Расчет NPV'!$E$8,'Расчет NPV'!$F$8,'Расчет NPV'!$B$8,'Расчет NPV'!$D$8) | F6: =_xlfn.BETA.INV(RAND(),'Расчет NPV'!$E$9,'Расчет NPV'!$F$9,'Расчет NPV'!$B$9,'Расчет NPV'!$D$9) | G6: =_xlfn.BETA.INV(RAND(),'Расчет NPV'!$E$10,'Расчет NPV'!$F$10,'Расчет NPV'!$B$10,'Расчет NPV'!$D$10) | H6: =((D6*(1+E6)^0*'Расчет NPV'!$C$14*(C6-F6)-G6)-MAX((D6*(1+E6)^0*'Расчет NPV'!$C$14*(C6-F6)-G6)-B6/6,0)*'Расчет NPV'!$C$13)/(1+'Расчет NPV'!$C$12)^1 | I6: =((D6*(1+E6)^1*(C6-F6)-G6)-MAX((D6*(1+E6)^1*(C6-F6)-G6)-B6/6,0)*'Расчет NPV'!$C$13)/(1+'Расчет NPV'!$C$12)^2 | J6: =((D6*(1+E6)^2*(C6-F6)-G6)-MAX((D6*(1+E6)^2*(C6-F6)-G6)-B6/6,0)*'Расчет NPV'!$C$13)/(1+'Расчет NPV'!$C$12)^3 | K6: =((D6*(1+E6)^3*(C6-F6)-G6)-MAX((D6*(1+E6)^3*(C6-F6)-G6)-B6/6,0)*'Расчет NPV'!$C$13)/(1+'Расчет NPV'!$C$12)^4 | L6: =((D6*(1+E6)^4*(C6-F6)-G6)-MAX((D6*(1+E6)^4*(C6-F6)-G6)-B6/6,0)*'Расчет NPV'!$C$13)/(1+'Расчет NPV'!$C$12)^5 | M6: =((D6*(1+E6)^5*(C6-F6)-G6)-MAX((D6*(1+E6)^5*(C6-F6)-G6)-B6/6,0)*'Расчет NPV'!$C$13)/(1+'Расчет NPV'!$C$12)^6 | N6: =SUM(H6:M6)-B6
A7: 3 | B7: =_xlfn.BETA.INV(RAND(),'Расчет NPV'!$E$5,'Расчет NPV'!$F$5,'Расчет NPV'!$B$5,'Расчет NPV'!$D$5) | C7: =_xlfn.BETA.INV(RAND(),'Расчет NPV'!$E$6,'Расчет NPV'!$F$6,'Расчет NPV'!$B$6,'Расчет NPV'!$D$6) | D7: =_xlfn.BETA.INV(RAND(),'Расчет NPV'!$E$7,'Расчет NPV'!$F$7,'Расчет NPV'!$B$7,'Расчет NPV'!$D$7) | E7: =_xlfn.BETA.INV(RAND(),'Расчет NPV'!$E$8,'Расчет NPV'!$F$8,'Расчет NPV'!$B$8,'Расчет NPV'!$D$8) | F7: =_xlfn.BETA.INV(RAND(),'Расчет NPV'!$E$9,'Расчет NPV'!$F$9,'Расчет NPV'!$B$9,'Расчет NPV'!$D$9) | G7: =_xlfn.BETA.INV(RAND(),'Расчет NPV'!$E$10,'Расчет NPV'!$F$10,'Расчет NPV'!$B$10,'Расчет NPV'!$D$10) | H7: =((D7*(1+E7)^0*'Расчет NPV'!$C$14*(C7-F7)-G7)-MAX((D7*(1+E7)^0*'Расчет NPV'!$C$14*(C7-F7)-G7)-B7/6,0)*'Расчет NPV'!$C$13)/(1+'Расчет NPV'!$C$12)^1 | I7: =((D7*(1+E7)^1*(C7-F7)-G7)-MAX((D7*(1+E7)^1*(C7-F7)-G7)-B7/6,0)*'Расчет NPV'!$C$13)/(1+'Расчет NPV'!$C$12)^2 | J7: =((D7*(1+E7)^2*(C7-F7)-G7)-MAX((D7*(1+E7)^2*(C7-F7)-G7)-B7/6,0)*'Расчет NPV'!$C$13)/(1+'Расчет NPV'!$C$12)^3 | K7: =((D7*(1+E7)^3*(C7-F7)-G7)-MAX((D7*(1+E7)^3*(C7-F7)-G7)-B7/6,0)*'Расчет NPV'!$C$13)/(1+'Расчет NPV'!$C$12)^4 | L7: =((D7*(1+E7)^4*(C7-F7)-G7)-MAX((D7*(1+E7)^4*(C7-F7)-G7)-B7/6,0)*'Расчет NPV'!$C$13)/(1+'Расчет NPV'!$C$12)^5 | M7: =((D7*(1+E7)^5*(C7-F7)-G7)-MAX((D7*(1+E7)^5*(C7-F7)-G7)-B7/6,0)*'Расчет NPV'!$C$13)/(1+'Расчет NPV'!$C$12)^6 | N7: =SUM(H7:M7)-B7
A8: 4 | B8: =_xlfn.BETA.INV(RAND(),'Расчет NPV'!$E$5,'Расчет NPV'!$F$5,'Расчет NPV'!$B$5,'Расчет NPV'!$D$5) | C8: =_xlfn.BETA.INV(RAND(),'Расчет NPV'!$E$6,'Расчет NPV'!$F$6,'Расчет NPV'!$B$6,'Расчет NPV'!$D$6) | D8: =_xlfn.BETA.INV(RAND(),'Расчет NPV'!$E$7,'Расчет NPV'!$F$7,'Расчет NPV'!$B$7,'Расчет NPV'!$D$7) | E8: =_xlfn.BETA.INV(RAND(),'Расчет NPV'!$E$8,'Расчет NPV'!$F$8,'Расчет NPV'!$B$8,'Расчет NPV'!$D$8) | F8: =_xlfn.BETA.INV(RAND(),'Расчет NPV'!$E$9,'Расчет NPV'!$F$9,'Расчет NPV'!$B$9,'Расчет NPV'!$D$9) | G8: =_xlfn.BETA.INV(RAND(),'Расчет NPV'!$E$10,'Расчет NPV'!$F$10,'Расчет NPV'!$B$10,'Расчет NPV'!$D$10) | H8: =((D8*(1+E8)^0*'Расчет NPV'!$C$14*(C8-F8)-G8)-MAX((D8*(1+E8)^0*'Расчет NPV'!$C$14*(C8-F8)-G8)-B8/6,0)*'Расчет NPV'!$C$13)/(1+'Расчет NPV'!$C$12)^1 | I8: =((D8*(1+E8)^1*(C8-F8)-G8)-MAX((D8*(1+E8)^1*(C8-F8)-G8)-B8/6,0)*'Расчет NPV'!$C$13)/(1+'Расчет NPV'!$C$12)^2 | J8: =((D8*(1+E8)^2*(C8-F8)-G8)-MAX((D8*(1+E8)^2*(C8-F8)-G8)-B8/6,0)*'Расчет NPV'!$C$13)/(1+'Расчет NPV'!$C$12)^3 | K8: =((D8*(1+E8)^3*(C8-F8)-G8)-MAX((D8*(1+E8)^3*(C8-F8)-G8)-B8/6,0)*'Расчет NPV'!$C$13)/(1+'Расчет NPV'!$C$12)^4 | L8: =((D8*(1+E8)^4*(C8-F8)-G8)-MAX((D8*(1+E8)^4*(C8-F8)-G8)-B8/6,0)*'Расчет NPV'!$C$13)/(1+'Расчет NPV'!$C$12)^5 | M8: =((D8*(1+E8)^5*(C8-F8)-G8)-MAX((D8*(1+E8)^5*(C8-F8)-G8)-B8/6,0)*'Расчет NPV'!$C$13)/(1+'Расчет NPV'!$C$12)^6 | N8: =SUM(H8:M8)-B8
A9: 5 | B9: =_xlfn.BETA.INV(RAND(),'Расчет NPV'!$E$5,'Расчет NPV'!$F$5,'Расчет NPV'!$B$5,'Расчет NPV'!$D$5) | C9: =_xlfn.BETA.INV(RAND(),'Расчет NPV'!$E$6,'Расчет NPV'!$F$6,'Расчет NPV'!$B$6,'Расчет NPV'!$D$6) | D9: =_xlfn.BETA.INV(RAND(),'Расчет NPV'!$E$7,'Расчет NPV'!$F$7,'Расчет NPV'!$B$7,'Расчет NPV'!$D$7) | E9: =_xlfn.BETA.INV(RAND(),'Расчет NPV'!$E$8,'Расчет NPV'!$F$8,'Расчет NPV'!$B$8,'Расчет NPV'!$D$8) | F9: =_xlfn.BETA.INV(RAND(),'Расчет NPV'!$E$9,'Расчет NPV'!$F$9,'Расчет NPV'!$B$9,'Расчет NPV'!$D$9) | G9: =_xlfn.BETA.INV(RAND(),'Расчет NPV'!$E$10,'Расчет NPV'!$F$10,'Расчет NPV'!$B$10,'Расчет NPV'!$D$10) | H9: =((D9*(1+E9)^0*'Расчет NPV'!$C$14*(C9-F9)-G9)-MAX((D9*(1+E9)^0*'Расчет NPV'!$C$14*(C9-F9)-G9)-B9/6,0)*'Расчет NPV'!$C$13)/(1+'Расчет NPV'!$C$12)^1 | I9: =((D9*(1+E9)^1*(C9-F9)-G9)-MAX((D9*(1+E9)^1*(C9-F9)-G9)-B9/6,0)*'Расчет NPV'!$C$13)/(1+'Расчет NPV'!$C$12)^2 | J9: =((D9*(1+E9)^2*(C9-F9)-G9)-MAX((D9*(1+E9)^2*(C9-F9)-G9)-B9/6,0)*'Расчет NPV'!$C$13)/(1+'Расчет NPV'!$C$12)^3 | K9: =((D9*(1+E9)^3*(C9-F9)-G9)-MAX((D9*(1+E9)^3*(C9-F9)-G9)-B9/6,0)*'Расчет NPV'!$C$13)/(1+'Расчет NPV'!$C$12)^4 | L9: =((D9*(1+E9)^4*(C9-F9)-G9)-MAX((D9*(1+E9)^4*(C9-F9)-G9)-B9/6,0)*'Расчет NPV'!$C$13)/(1+'Расчет NPV'!$C$12)^5 | M9: =((D9*(1+E9)^5*(C9-F9)-G9)-MAX((D9*(1+E9)^5*(C9-F9)-G9)-B9/6,0)*'Расчет NPV'!$C$13)/(1+'Расчет NPV'!$C$12)^6 | N9: =SUM(H9:M9)-B9
A10: 6 | B10: =_xlfn.BETA.INV(RAND(),'Расчет NPV'!$E$5,'Расчет NPV'!$F$5,'Расчет NPV'!$B$5,'Расчет NPV'!$D$5) | C10: =_xlfn.BETA.INV(RAND(),'Расчет NPV'!$E$6,'Расчет NPV'!$F$6,'Расчет NPV'!$B$6,'Расчет NPV'!$D$6) | D10: =_xlfn.BETA.INV(RAND(),'Расчет NPV'!$E$7,'Расчет NPV'!$F$7,'Расчет NPV'!$B$7,'Расчет NPV'!$D$7) | E10: =_xlfn.BETA.INV(RAND(),'Расчет NPV'!$E$8,'Расчет NPV'!$F$8,'Расчет NPV'!$B$8,'Расчет NPV'!$D$8) | F10: =_xlfn.BETA.INV(RAND(),'Расчет NPV'!$E$9,'Расчет NPV'!$F$9,'Расчет NPV'!$B$9,'Расчет NPV'!$D$9) | G10: =_xlfn.BETA.INV(RAND(),'Расчет NPV'!$E$10,'Расчет NPV'!$F$10,'Расчет NPV'!$B$10,'Расчет NPV'!$D$10) | H10: =((D10*(1+E10)^0*'Расчет NPV'!$C$14*(C10-F10)-G10)-MAX((D10*(1+E10)^0*'Расчет NPV'!$C$14*(C10-F10)-G10)-B10/6,0)*'Расчет NPV'!$C$13)/(1+'Расчет NPV'!$C$12)^1 | I10: =((D10*(1+E10)^1*(C10-F10)-G10)-MAX((D10*(1+E10)^1*(C10-F10)-G10)-B10/6,0)*'Расчет NPV'!$C$13)/(1+'Расчет NPV'!$C$12)^2 | J10: =((D10*(1+E10)^2*(C10-F10)-G10)-MAX((D10*(1+E10)^2*(C10-F10)-G10)-B10/6,0)*'Расчет NPV'!$C$13)/(1+'Расчет NPV'!$C$12)^3 | K10: =((D10*(1+E10)^3*(C10-F10)-G10)-MAX((D10*(1+E10)^3*(C10-F10)-G10)-B10/6,0)*'Расчет NPV'!$C$13)/(1+'Расчет NPV'!$C$12)^4 | L10: =((D10*(1+E10)^4*(C10-F10)-G10)-MAX((D10*(1+E10)^4*(C10-F10)-G10)-B10/6,0)*'Расчет NPV'!$C$13)/(1+'Расчет NPV'!$C$12)^5 | M10: =((D10*(1+E10)^5*(C10-F10)-G10)-MAX((D10*(1+E10)^5*(C10-F10)-G10)-B10/6,0)*'Расчет NPV'!$C$13)/(1+'Расчет NPV'!$C$12)^6 | N10: =SUM(H10:M10)-B10
A11: 7 | B11: =_xlfn.BETA.INV(RAND(),'Расчет NPV'!$E$5,'Расчет NPV'!$F$5,'Расчет NPV'!$B$5,'Расчет NPV'!$D$5) | C11: =_xlfn.BETA.INV(RAND(),'Расчет NPV'!$E$6,'Расчет NPV'!$F$6,'Расчет NPV'!$B$6,'Расчет NPV'!$D$6) | D11: =_xlfn.BETA.INV(RAND(),'Расчет NPV'!$E$7,'Расчет NPV'!$F$7,'Расчет NPV'!$B$7,'Расчет NPV'!$D$7) | E11: =_xlfn.BETA.INV(RAND(),'Расчет NPV'!$E$8,'Расчет NPV'!$F$8,'Расчет NPV'!$B$8,'Расчет NPV'!$D$8) | F11: =_xlfn.BETA.INV(RAND(),'Расчет NPV'!$E$9,'Расчет NPV'!$F$9,'Расчет NPV'!$B$9,'Расчет NPV'!$D$9) | G11: =_xlfn.BETA.INV(RAND(),'Расчет NPV'!$E$10,'Расчет NPV'!$F$10,'Расчет NPV'!$B$10,'Расчет NPV'!$D$10) | H11: =((D11*(1+E11)^0*'Расчет NPV'!$C$14*(C11-F11)-G11)-MAX((D11*(1+E11)^0*'Расчет NPV'!$C$14*(C11-F11)-G11)-B11/6,0)*'Расчет NPV'!$C$13)/(1+'Расчет NPV'!$C$12)^1 | I11: =((D11*(1+E11)^1*(C11-F11)-G11)-MAX((D11*(1+E11)^1*(C11-F11)-G11)-B11/6,0)*'Расчет NPV'!$C$13)/(1+'Расчет NPV'!$C$12)^2 | J11: =((D11*(1+E11)^2*(C11-F11)-G11)-MAX((D11*(1+E11)^2*(C11-F11)-G11)-B11/6,0)*'Расчет NPV'!$C$13)/(1+'Расчет NPV'!$C$12)^3 | K11: =((D11*(1+E11)^3*(C11-F11)-G11)-MAX((D11*(1+E11)^3*(C11-F11)-G11)-B11/6,0)*'Расчет NPV'!$C$13)/(1+'Расчет NPV'!$C$12)^4 | L11: =((D11*(1+E11)^4*(C11-F11)-G11)-MAX((D11*(1+E11)^4*(C11-F11)-G11)-B11/6,0)*'Расчет NPV'!$C$13)/(1+'Расчет NPV'!$C$12)^5 | M11: =((D11*(1+E11)^5*(C11-F11)-G11)-MAX((D11*(1+E11)^5*(C11-F11)-G11)-B11/6,0)*'Расчет NPV'!$C$13)/(1+'Расчет NPV'!$C$12)^6 | N11: =SUM(H11:M11)-B11
A12: 8 | B12: =_xlfn.BETA.INV(RAND(),'Расчет NPV'!$E$5,'Расчет NPV'!$F$5,'Расчет NPV'!$B$5,'Расчет NPV'!$D$5) | C12: =_xlfn.BETA.INV(RAND(),'Расчет NPV'!$E$6,'Расчет NPV'!$F$6,'Расчет NPV'!$B$6,'Расчет NPV'!$D$6) | D12: =_xlfn.BETA.INV(RAND(),'Расчет NPV'!$E$7,'Расчет NPV'!$F$7,'Расчет NPV'!$B$7,'Расчет NPV'!$D$7) | E12: =_xlfn.BETA.INV(RAND(),'Расчет NPV'!$E$8,'Расчет NPV'!$F$8,'Расчет NPV'!$B$8,'Расчет NPV'!$D$8) | F12: =_xlfn.BETA.INV(RAND(),'Расчет NPV'!$E$9,'Расчет NPV'!$F$9,'Расчет NPV'!$B$9,'Расчет NPV'!$D$9) | G12: =_xlfn.BETA.INV(RAND(),'Расчет NPV'!$E$10,'Расчет NPV'!$F$10,'Расчет NPV'!$B$10,'Расчет NPV'!$D$10) | H12: =((D12*(1+E12)^0*'Расчет NPV'!$C$14*(C12-F12)-G12)-MAX((D12*(1+E12)^0*'Расчет NPV'!$C$14*(C12-F12)-G12)-B12/6,0)*'Расчет NPV'!$C$13)/(1+'Расчет NPV'!$C$12)^1 | I12: =((D12*(1+E12)^1*(C12-F12)-G12)-MAX((D12*(1+E12)^1*(C12-F12)-G12)-B12/6,0)*'Расчет NPV'!$C$13)/(1+'Расчет NPV'!$C$12)^2 | J12: =((D12*(1+E12)^2*(C12-F12)-G12)-MAX((D12*(1+E12)^2*(C12-F12)-G12)-B12/6,0)*'Расчет NPV'!$C$13)/(1+'Расчет NPV'!$C$12)^3 | K12: =((D12*(1+E12)^3*(C12-F12)-G12)-MAX((D12*(1+E12)^3*(C12-F12)-G12)-B12/6,0)*'Расчет NPV'!$C$13)/(1+'Расчет NPV'!$C$12)^4 | L12: =((D12*(1+E12)^4*(C12-F12)-G12)-MAX((D12*(1+E12)^4*(C12-F12)-G12)-B12/6,0)*'Расчет NPV'!$C$13)/(1+'Расчет NPV'!$C$12)^5 | M12: =((D12*(1+E12)^5*(C12-F12)-G12)-MAX((D12*(1+E12)^5*(C12-F12)-G12)-B12/6,0)*'Расчет NPV'!$C$13)/(1+'Расчет NPV'!$C$12)^6 | N12: =SUM(H12:M12)-B12
A13: 9 | B13: =_xlfn.BETA.INV(RAND(),'Расчет NPV'!$E$5,'Расчет NPV'!$F$5,'Расчет NPV'!$B$5,'Расчет NPV'!$D$5) | C13: =_xlfn.BETA.INV(RAND(),'Расчет NPV'!$E$6,'Расчет NPV'!$F$6,'Расчет NPV'!$B$6,'Расчет NPV'!$D$6) | D13: =_xlfn.BETA.INV(RAND(),'Расчет NPV'!$E$7,'Расчет NPV'!$F$7,'Расчет NPV'!$B$7,'Расчет NPV'!$D$7) | E13: =_xlfn.BETA.INV(RAND(),'Расчет NPV'!$E$8,'Расчет NPV'!$F$8,'Расчет NPV'!$B$8,'Расчет NPV'!$D$8) | F13: =_xlfn.BETA.INV(RAND(),'Расчет NPV'!$E$9,'Расчет NPV'!$F$9,'Расчет NPV'!$B$9,'Расчет NPV'!$D$9) | G13: =_xlfn.BETA.INV(RAND(),'Расчет NPV'!$E$10,'Расчет NPV'!$F$10,'Расчет NPV'!$B$10,'Расчет NPV'!$D$10) | H13: =((D13*(1+E13)^0*'Расчет NPV'!$C$14*(C13-F13)-G13)-MAX((D13*(1+E13)^0*'Расчет NPV'!$C$14*(C13-F13)-G13)-B13/6,0)*'Расчет NPV'!$C$13)/(1+'Расчет NPV'!$C$12)^1 | I13: =((D13*(1+E13)^1*(C13-F13)-G13)-MAX((D13*(1+E13)^1*(C13-F13)-G13)-B13/6,0)*'Расчет NPV'!$C$13)/(1+'Расчет NPV'!$C$12)^2 | J13: =((D13*(1+E13)^2*(C13-F13)-G13)-MAX((D13*(1+E13)^2*(C13-F13)-G13)-B13/6,0)*'Расчет NPV'!$C$13)/(1+'Расчет NPV'!$C$12)^3 | K13: =((D13*(1+E13)^3*(C13-F13)-G13)-MAX((D13*(1+E13)^3*(C13-F13)-G13)-B13/6,0)*'Расчет NPV'!$C$13)/(1+'Расчет NPV'!$C$12)^4 | L13: =((D13*(1+E13)^4*(C13-F13)-G13)-MAX((D13*(1+E13)^4*(C13-F13)-G13)-B13/6,0)*'Расчет NPV'!$C$13)/(1+'Расчет NPV'!$C$12)^5 | M13: =((D13*(1+E13)^5*(C13-F13)-G13)-MAX((D13*(1+E13)^5*(C13-F13)-G13)-B13/6,0)*'Расчет NPV'!$C$13)/(1+'Расчет NPV'!$C$12)^6 | N13: =SUM(H13:M13)-B13
A14: 10 | B14: =_xlfn.BETA.INV(RAND(),'Расчет NPV'!$E$5,'Расчет NPV'!$F$5,'Расчет NPV'!$B$5,'Расчет NPV'!$D$5) | C14: =_xlfn.BETA.INV(RAND(),'Расчет NPV'!$E$6,'Расчет NPV'!$F$6,'Расчет NPV'!$B$6,'Расчет NPV'!$D$6) | D14: =_xlfn.BETA.INV(RAND(),'Расчет NPV'!$E$7,'Расчет NPV'!$F$7,'Расчет NPV'!$B$7,'Расчет NPV'!$D$7) | E14: =_xlfn.BETA.INV(RAND(),'Расчет NPV'!$E$8,'Расчет NPV'!$F$8,'Расчет NPV'!$B$8,'Расчет NPV'!$D$8) | F14: =_xlfn.BETA.INV(RAND(),'Расчет NPV'!$E$9,'Расчет NPV'!$F$9,'Расчет NPV'!$B$9,'Расчет NPV'!$D$9) | G14: =_xlfn.BETA.INV(RAND(),'Расчет NPV'!$E$10,'Расчет NPV'!$F$10,'Расчет NPV'!$B$10,'Расчет NPV'!$D$10) | H14: =((D14*(1+E14)^0*'Расчет NPV'!$C$14*(C14-F14)-G14)-MAX((D14*(1+E14)^0*'Расчет NPV'!$C$14*(C14-F14)-G14)-B14/6,0)*'Расчет NPV'!$C$13)/(1+'Расчет NPV'!$C$12)^1 | I14: =((D14*(1+E14)^1*(C14-F14)-G14)-MAX((D14*(1+E14)^1*(C14-F14)-G14)-B14/6,0)*'Расчет NPV'!$C$13)/(1+'Расчет NPV'!$C$12)^2 | J14: =((D14*(1+E14)^2*(C14-F14)-G14)-MAX((D14*(1+E14)^2*(C14-F14)-G14)-B14/6,0)*'Расчет NPV'!$C$13)/(1+'Расчет NPV'!$C$12)^3 | K14: =((D14*(1+E14)^3*(C14-F14)-G14)-MAX((D14*(1+E14)^3*(C14-F14)-G14)-B14/6,0)*'Расчет NPV'!$C$13)/(1+'Расчет NPV'!$C$12)^4 | L14: =((D14*(1+E14)^4*(C14-F14)-G14)-MAX((D14*(1+E14)^4*(C14-F14)-G14)-B14/6,0)*'Расчет NPV'!$C$13)/(1+'Расчет NPV'!$C$12)^5 | M14: =((D14*(1+E14)^5*(C14-F14)-G14)-MAX((D14*(1+E14)^5*(C14-F14)-G14)-B14/6,0)*'Расчет NPV'!$C$13)/(1+'Расчет NPV'!$C$12)^6 | N14: =SUM(H14:M14)-B14
A15: 11 | B15: =_xlfn.BETA.INV(RAND(),'Расчет NPV'!$E$5,'Расчет NPV'!$F$5,'Расчет NPV'!$B$5,'Расчет NPV'!$D$5) | C15: =_xlfn.BETA.INV(RAND(),'Расчет NPV'!$E$6,'Расчет NPV'!$F$6,'Расчет NPV'!$B$6,'Расчет NPV'!$D$6) | D15: =_xlfn.BETA.INV(RAND(),'Расчет NPV'!$E$7,'Расчет NPV'!$F$7,'Расчет NPV'!$B$7,'Расчет NPV'!$D$7) | E15: =_xlfn.BETA.INV(RAND(),'Расчет NPV'!$E$8,'Расчет NPV'!$F$8,'Расчет NPV'!$B$8,'Расчет NPV'!$D$8) | F15: =_xlfn.BETA.INV(RAND(),'Расчет NPV'!$E$9,'Расчет NPV'!$F$9,'Расчет NPV'!$B$9,'Расчет NPV'!$D$9) | G15: =_xlfn.BETA.INV(RAND(),'Расчет NPV'!$E$10,'Расчет NPV'!$F$10,'Расчет NPV'!$B$10,'Расчет NPV'!$D$10) | H15: =((D15*(1+E15)^0*'Расчет NPV'!$C$14*(C15-F15)-G15)-MAX((D15*(1+E15)^0*'Расчет NPV'!$C$14*(C15-F15)-G15)-B15/6,0)*'Расчет NPV'!$C$13)/(1+'Расчет NPV'!$C$12)^1 | I15: =((D15*(1+E15)^1*(C15-F15)-G15)-MAX((D15*(1+E15)^1*(C15-F15)-G15)-B15/6,0)*'Расчет NPV'!$C$13)/(1+'Расчет NPV'!$C$12)^2 | J15: =((D15*(1+E15)^2*(C15-F15)-G15)-MAX((D15*(1+E15)^2*(C15-F15)-G15)-B15/6,0)*'Расчет NPV'!$C$13)/(1+'Расчет NPV'!$C$12)^3 | K15: =((D15*(1+E15)^3*(C15-F15)-G15)-MAX((D15*(1+E15)^3*(C15-F15)-G15)-B15/6,0)*'Расчет NPV'!$C$13)/(1+'Расчет NPV'!$C$12)^4 | L15: =((D15*(1+E15)^4*(C15-F15)-G15)-MAX((D15*(1+E15)^4*(C15-F15)-G15)-B15/6,0)*'Расчет NPV'!$C$13)/(1+'Расчет NPV'!$C$12)^5 | M15: =((D15*(1+E15)^5*(C15-F15)-G15)-MAX((D15*(1+E15)^5*(C15-F15)-G15)-B15/6,0)*'Расчет NPV'!$C$13)/(1+'Расчет NPV'!$C$12)^6 | N15: =SUM(H15:M15)-B15
A16: 12 | B16: =_xlfn.BETA.INV(RAND(),'Расчет NPV'!$E$5,'Расчет NPV'!$F$5,'Расчет NPV'!$B$5,'Расчет NPV'!$D$5) | C16: =_xlfn.BETA.INV(RAND(),'Расчет NPV'!$E$6,'Расчет NPV'!$F$6,'Расчет NPV'!$B$6,'Расчет NPV'!$D$6) | D16: =_xlfn.BETA.INV(RAND(),'Расчет NPV'!$E$7,'Расчет NPV'!$F$7,'Расчет NPV'!$B$7,'Расчет NPV'!$D$7) | E16: =_xlfn.BETA.INV(RAND(),'Расчет NPV'!$E$8,'Расчет NPV'!$F$8,'Расчет NPV'!$B$8,'Расчет NPV'!$D$8) | F16: =_xlfn.BETA.INV(RAND(),'Расчет NPV'!$E$9,'Расчет NPV'!$F$9,'Расчет NPV'!$B$9,'Расчет NPV'!$D$9) | G16: =_xlfn.BETA.INV(RAND(),'Расчет NPV'!$E$10,'Расчет NPV'!$F$10,'Расчет NPV'!$B$10,'Расчет NPV'!$D$10) | H16: =((D16*(1+E16)^0*'Расчет NPV'!$C$14*(C16-F16)-G16)-MAX((D16*(1+E16)^0*'Расчет NPV'!$C$14*(C16-F16)-G16)-B16/6,0)*'Расчет NPV'!$C$13)/(1+'Расчет NPV'!$C$12)^1 | I16: =((D16*(1+E16)^1*(C16-F16)-G16)-MAX((D16*(1+E16)^1*(C16-F16)-G16)-B16/6,0)*'Расчет NPV'!$C$13)/(1+'Расчет NPV'!$C$12)^2 | J16: =((D16*(1+E16)^2*(C16-F16)-G16)-MAX((D16*(1+E16)^2*(C16-F16)-G16)-B16/6,0)*'Расчет NPV'!$C$13)/(1+'Расчет NPV'!$C$12)^3 | K16: =((D16*(1+E16)^3*(C16-F16)-G16)-MAX((D16*(1+E16)^3*(C16-F16)-G16)-B16/6,0)*'Расчет NPV'!$C$13)/(1+'Расчет NPV'!$C$12)^4 | L16: =((D16*(1+E16)^4*(C16-F16)-G16)-MAX((D16*(1+E16)^4*(C16-F16)-G16)-B16/6,0)*'Расчет NPV'!$C$13)/(1+'Расчет NPV'!$C$12)^5 | M16: =((D16*(1+E16)^5*(C16-F16)-G16)-MAX((D16*(1+E16)^5*(C16-F16)-G16)-B16/6,0)*'Расчет NPV'!$C$13)/(1+'Расчет NPV'!$C$12)^6 | N16: =SUM(H16:M16)-B16
... A5004: 5000 | B5004: =_xlfn.BETA.INV(RAND(),'Расчет NPV'!$E$5,'Расчет NPV'!$F$5,'Расчет NPV'!$B$5,'Расчет NPV'!$D$5) | C5004: =_xlfn.BETA.INV(RAND(),'Расчет NPV'!$E$6,'Расчет NPV'!$F$6,'Расчет NPV'!$B$6,'Расчет NPV'!$D$6) | D5004: =_xlfn.BETA.INV(RAND(),'Расчет NPV'!$E$7,'Расчет NPV'!$F$7,'Расчет NPV'!$B$7,'Расчет NPV'!$D$7) | E5004: =_xlfn.BETA.INV(RAND(),'Расчет NPV'!$E$8,'Расчет NPV'!$F$8,'Расчет NPV'!$B$8,'Расчет NPV'!$D$8) | F5004: =_xlfn.BETA.INV(RAND(),'Расчет NPV'!$E$9,'Расчет NPV'!$F$9,'Расчет NPV'!$B$9,'Расчет NPV'!$D$9) | G5004: =_xlfn.BETA.INV(RAND(),'Расчет NPV'!$E$10,'Расчет NPV'!$F$10,'Расчет NPV'!$B$10,'Расчет NPV'!$D$10) | H5004: =((D5004*(1+E5004)^0*'Расчет NPV'!$C$14*(C5004-F5004)-G5004)-MAX((D5004*(1+E5004)^0*'Расчет NPV'!$C$14*(C5004-F5004)-G5004)-B5004/6,0)*'Расчет NPV'!$C$13)/(1+'Расчет NPV'!$C$12)^1 | I5004: =((D5004*(1+E5004)^1*(C5004-F5004)-G5004)-MAX((D5004*(1+E5004)^1*(C5004-F5004)-G5004)-B5004/6,0)*'Расчет NPV'!$C$13)/(1+'Расчет NPV'!$C$12)^2 | J5004: =((D5004*(1+E5004)^2*(C5004-F5004)-G5004)-MAX((D5004*(1+E5004)^2*(C5004-F5004)-G5004)-B5004/6,0)*'Расчет NPV'!$C$13)/(1+'Расчет NPV'!$C$12)^3 | K5004: =((D5004*(1+E5004)^3*(C5004-F5004)-G5004)-MAX((D5004*(1+E5004)^3*(C5004-F5004)-G5004)-B5004/6,0)*'Расчет NPV'!$C$13)/(1+'Расчет NPV'!$C$12)^4 | L5004: =((D5004*(1+E5004)^4*(C5004-F5004)-G5004)-MAX((D5004*(1+E5004)^4*(C5004-F5004)-G5004)-B5004/6,0)*'Расчет NPV'!$C$13)/(1+'Расчет NPV'!$C$12)^5 | M5004: =((D5004*(1+E5004)^5*(C5004-F5004)-G5004)-MAX((D5004*(1+E5004)^5*(C5004-F5004)-G5004)-B5004/6,0)*'Расчет NPV'!$C$13)/(1+'Расчет NPV'!$C$12)^6 | N5004: =SUM(H5004:M5004)-B5004

Sheet МоделРиск
A1: Модель NPV на функциях МоделРиск
A2: Нужен МоделРиск. Запустите симуляцию кнопкой «Старт» на ленте МоделРиск.
A4: Фактор | B4: Значение в сценарии
A5: Капитальные затраты, млн руб. | B5: =VoseInput("Капитальные затраты")+VosePERT(900,1000,1300)
A6: Цена продукции, тыс. руб./т | B6: =VoseInput("Цена продукции")+VosePERT(42,50,54)
A7: Объем продаж в первый полный год, тыс. т | B7: =VoseInput("Объем продаж")+VosePERT(30,40,44)
A8: Рост объема в год | B8: =VoseInput("Рост объема")+VosePERT(0,0.05,0.08)
A9: Удельные переменные затраты, тыс. руб./т | B9: =VoseInput("Удельные затраты")+VosePERT(30,33,39)
A10: Постоянные затраты, млн руб./год | B10: =VoseInput("Постоянные затраты")+VosePERT(110,120,140)
A12: Год | B12: 0 | C12: 1 | D12: 2 | E12: 3 | F12: 4 | G12: 5 | H12: 6
A13: Объем, тыс. т | C13: =$B$7*(1+$B$8)^(1-1)*0.6 | D13: =$B$7*(1+$B$8)^(2-1)*1 | E13: =$B$7*(1+$B$8)^(3-1)*1 | F13: =$B$7*(1+$B$8)^(4-1)*1 | G13: =$B$7*(1+$B$8)^(5-1)*1 | H13: =$B$7*(1+$B$8)^(6-1)*1
A14: EBITDA | C14: =C13*($B$6-$B$9)-$B$10 | D14: =D13*($B$6-$B$9)-$B$10 | E14: =E13*($B$6-$B$9)-$B$10 | F14: =F13*($B$6-$B$9)-$B$10 | G14: =G13*($B$6-$B$9)-$B$10 | H14: =H13*($B$6-$B$9)-$B$10
A15: Налог | C15: =MAX(C14-$B$5/6,0)*0.2 | D15: =MAX(D14-$B$5/6,0)*0.2 | E15: =MAX(E14-$B$5/6,0)*0.2 | F15: =MAX(F14-$B$5/6,0)*0.2 | G15: =MAX(G14-$B$5/6,0)*0.2 | H15: =MAX(H14-$B$5/6,0)*0.2
A16: Денежный поток | B16: =-B5 | C16: =C14-C15 | D16: =D14-D15 | E16: =E14-E15 | F16: =F14-F15 | G16: =G14-G15 | H16: =H14-H15
A18: NPV | B18: =VoseOutput("NPV")+B16+NPV(0.15,C16:H16)
A20: Средний NPV | B20: =VoseSimMean(B18)
A21: P10 | B21: =VoseSimPercentile(B18,0.1)
A22: P90 | B22: =VoseSimPercentile(B18,0.9)
A23: Вероятность убытка | B23: =VoseSimProbability(B18,0)
