Workbook
Name Avg_Y1: 'Прогноз'!$J$10
Name Avg_Y2: 'Прогноз'!$J$11
Name Avg_Y3: 'Прогноз'!$J$12
Name Avg_Y4: 'Прогноз'!$J$13
Name Avg_Y5: 'Прогноз'!$J$14
Name Avg5_AJ: 'Прогноз'!$M$14
Name Avg5_GBM: 'Прогноз'!$K$14
Name Avg5_VR: 'Прогноз'!$L$14
Name Best_No: 'Модели'!$C$22
Name BudgetPrice: 'Исходные данные'!$D$11
Name Checks: 'Модели'!$D$64:$D$67
Name FirstForecastYear: 'Исходные данные'!$D$12
Name Fit_Objects: 'Модели'!$C$12:$E$12
Name Hist_Date: 'История'!$B$10:$B$129
Name Hist_Last: 'История'!$C$129
Name Hist_Price: 'История'!$C$10:$C$129
Name Hist_Ret: 'История'!$D$11:$D$129
Name Model_Names: 'Модели'!$C$8:$E$8
Name Model_No: 'Модели'!$C$9:$E$9
Name ModelUsed: 'Модели'!$C$36
Name ModelUsedName: 'Модели'!$C$37
Name Obj_AJ: 'Модели'!$E$12
Name Obj_GBM: 'Модели'!$C$12
Name Obj_VR: 'Модели'!$D$12
Name Prior_AJ: 'Исходные данные'!$D$21
Name Prior_GBM: 'Исходные данные'!$D$19
Name Prior_VR: 'Исходные данные'!$D$20
Name SIC_All: 'Модели'!$C$13:$E$13
Name UseAveraging: 'Исходные данные'!$D$18
Name UseParamUncertainty: 'Исходные данные'!$D$13
Name W_Used: 'Модели'!$C$20:$E$20

Sheet Описание
B2: Прогноз цены нефти по истории | D2: Пример МоделРиск · Нефть и газ · OG-04
B3: Какой ценовой сценарий заложить в пятилетний план? Три модели временных рядов, подобранные к десяти годам цен и взвешенные по данным.
D4: Далее: Исходные данные ▸
B6: Карточка модели
B7: Отрасль | C7: Нефть и газ
B8: Сложность | C8: ★★★★☆ Подбирает к истории цен три модели временных рядов, взвешивает их по данным и усредняет их прогнозы.
B9: Вопрос бизнеса | C9: Какой диапазон цен на нефть заложить в план на 2027–2031 годы, насколько вероятно, что средняя цена каждого года окажется ниже бюджетной, и может ли история цен за десять лет отличить случайное блуждание от цены, которая возвращается к долгосрочному уровню?
B10: Для кого | C10: Плановикам, коммерческим и финансовым службам, которые задают ценовые сценарии, и аналитикам, прогнозирующим цены на сырье или валютные курсы.
B11: Основные результаты | C11: Прогноз месячной цены с полосой от 10-го до 90-го процентиля · среднегодовые цены для плана · вероятность, что средняя цена года окажется ниже бюджетной · свидетельства в пользу каждой модели и что каждая из них дает для 5-го года.
B12: Приемы МоделРиск | C12: Подбор временных рядов с неопределенностью параметров (VoseTimeGBMFitObject, VoseTimeGBMVRFitObject, VoseTimeGBMAJVRFitObject) · сравнение моделей по информационному критерию Шварца (VoseSIC, VoseTimeOptimalFitObject) · байесовское усреднение моделей · прогноз по объектам подбора (VoseTimeSimulate).
B13: Файл | C13: OG-04 Прогноз цены нефти по истории · Версия 1.0 · Ноябрь 2026 · создано в МоделРиск
B15: Вопрос бизнеса
B16: Пятилетнему плану нужен ценовой сценарий: ожидаемая цена нефти на каждый год и разумный диапазон вокруг нее. У компании есть десять лет месячных цен. Случайное блуждание (геометрическое броуновское движение) говорит, что сегодняшняя цена — лучший ориентир на будущее, а диапазон продолжает расширяться. Модель с возвратом к среднему говорит, что цены притягиваются к долгосрочному уровню, поэтому диапазон перестает расти. Обе модели стандартны, обе почти одинаково хорошо описывают историю — и резко расходятся в оценке 2031 года. Вместо того чтобы выбрать одну и скрыть этот выбор, модель подбирает трех кандидатов функциями подбора временных рядов МоделРиск, оценивает свидетельства в пользу каждого информационным критерием Шварца (SIC) и усредняет их прогнозы с этими весами. Неопределенность подобранных параметров тоже учитывается, потому что десять лет данных определяют долгосрочный уровень лишь приблизительно.
B18: Как устроена модель
B19: После этого листа идут еще пять, слева направо. Каждый питает следующий.
B28: 1 Исходные данные | C28: Проверяемая бюджетная цена и априорный вес каждой модели (по умолчанию равные). Два переключателя: учитывать неопределенность параметров и усреднять модели или брать только лучшую. Первый год прогноза — год после окончания истории.
B29: 2 История | C29: Десять лет месяцев и среднемесячных цен с их логарифмическими доходностями. Вставьте свои месяцы и цены поверх желтых ячеек, заканчивая декабрем; все дальнейшие расчеты обновятся.
B30: 3 Модели | C30: VoseTimeGBMFitObject, VoseTimeGBMVRFitObject и VoseTimeGBMAJVRFitObject подбирают к ценам случайное блуждание, модель с возвратом к среднему и модель с возвратом к среднему и скачками. VoseSIC оценивает каждый подбор со штрафом за лишние параметры (чем меньше, тем лучше). Поддержка каждой модели — ее априорный вес × exp(−ΔSIC / 2); ее вес по данным — доля в общей поддержке, стандартное приближение вероятности того, что модель верна.
B31: 4 Прогноз | C31: В каждой итерации VoseTimeSimulate разыгрывает 60-месячную траекторию из каждой подобранной модели; подборы случайного блуждания и возврата к среднему также разыгрывают свои параметры из их неопределенности. VoseDiscrete выбирает одну модель с вероятностью, равной ее весу, и траектория этой модели становится прогнозом. Среднегодовые значения превращают траекторию в ценовой сценарий.
B32: 5 Результаты | C32: Процентили месячных и годовых цен, вероятность, что средняя цена года окажется ниже бюджетной, и цена 5-го года по каждой модели и по усреднению.
B34: Как пользоваться моделью
B35: Шаг 1 | C35: Вставьте свои месяцы и месячные цены на лист «История» (120 месяцев, начиная с самого раннего, заканчивая декабрем) и задайте бюджетную цену на листе «Исходные данные».
B36: Шаг 2 | C36: Посмотрите лист «Модели»: SIC и веса по данным показывают, насколько сильно история говорит в пользу каждой модели.
B37: Шаг 3 | C37: Нажимайте F9 на листе «Прогноз», чтобы увидеть разные траектории, затем запустите моделирование с ленты МоделРиск (10 000 итераций, фиксированное начальное число).
B38: Шаг 4 | C38: Установите «Усреднять модели» в 0, чтобы использовать только лучшую модель, или измените априорные веса, и запустите моделирование снова.
B40: Структура модели
B41: Исходные данные | C41: Бюджетная цена, априорные веса моделей, два переключателя и первый год прогноза (из истории).
B42: История | C42: Десять лет месячных цен, логарифмические доходности, сводная статистика и график.
B43: Модели | C43: Три подобранные модели: объекты подбора, SIC, веса по данным, выбранная модель, подобранные параметры, проверки.
B44: Прогноз | C44: 60 месяцев цен в одной итерации, среднегодовые значения и график трех траекторий.
B45: Результаты | C45: Ценовой сценарий с диапазоном, вероятность опуститься ниже бюджета и 5-й год по каждой модели.
B47: Цветовые обозначения
B48: Исходное значение | C48: Допущение, которое можно менять. Исходные данные — только в этих ячейках.
B49: Неопределенная величина | C49: Распределение МоделРиск: новое случайное значение выбирается при каждом пересчете (F9) и в каждой итерации моделирования.
B50: Расчет | C50: Формула. Не перезаписывайте.
B51: Ключевой результат | C51: Отмечен функцией VoseOutput: при моделировании сохраняется его полное распределение.
B52: Результат моделирования | C52: Функция VoseSim…: статистика последнего моделирования, заполняется автоматически.
B54: Единицы и обозначения
B55: Цены | C55: долл./барр., среднемесячные цены эталонного сорта нефти (синтетические данные); номинальные цены, без поправки на инфляцию.
B56: Логарифмическая доходность | C56: ln(цена этого месяца ÷ цена прошлого месяца): при небольших изменениях близка к процентному изменению.
...

Sheet Исходные данные
B2: Прогноз цены нефти по истории | J2: Пример МоделРиск · Нефть и газ · OG-04
B3: ИСХОДНЫЕ ДАННЫЕ · Все допущения модели, их неопределенность и обоснование. Меняйте только желтые ячейки.
B4: ◂ Описание | J4: Далее: История ▸
B6: Как читать этот лист: желтые ячейки — исходные данные.
B8: 1 Настройки плана
B9: Бюджетная цена проверяется по прогнозу, который начинается в январе после окончания истории.
B10: Допущение | C10: Ед. изм. | D10: Значение в модели | E10: Неопределенность | J10: Обоснование / источник (условно)
B11: Бюджетная цена | C11: долл./барр. | D11: 60 | E11: Константа | J11: Цена, заложенная в бюджет. Лист «Результаты» показывает вероятность, что средняя цена каждого года окажется ниже нее.
B12: Первый год прогноза | C12: год | D12: =YEAR(MAX(Hist_Date))+1 -> 2027 | E12: Расчетное | J12: Год после последнего месяца истории (лист «История»). Прогноз охватывает пять календарных лет начиная с января.
B13: Учитывать неопределенность параметров | C13: 1 — да, 0 — нет | D13: 1 | E13: Константа | J13: 1 — в каждой итерации разыгрываются параметры подборов случайного блуждания и возврата к среднему (аргумент Uncertainty функций подбора); 0 — используется наилучший подбор.
B15: 2 Усреднение моделей
B16: Как три подобранные модели объединяются в один прогноз.
B17: Допущение | C17: Ед. изм. | D17: Значение в модели | E17: Неопределенность | J17: Обоснование / источник (условно)
B18: Усреднять модели | C18: 1 — да, 0 — нет | D18: 1 | E18: Константа | J18: 1 — модели усредняются по весам по данным; 0 — используется только модель с наименьшим SIC.
B19: Априорный вес: случайное блуждание (GBM) | C19: относительный | D19: 1 | E19: Константа | J19: Ваш вес для каждой модели до того, как вы посмотрели на данные. Равные веса позволяют решать данным.
B20: Априорный вес: возврат к среднему (GBMVR) | C20: относительный | D20: 1 | E20: Константа | J20: Экономический довод (производители реагируют на цены) для сырья часто говорит в пользу возврата к среднему.
B21: Априорный вес: возврат к среднему со скачками (GBMAJVR) | C21: относительный | D21: 1 | E21: Константа | J21: Установите вес модели в 0, чтобы исключить ее.

Sheet История
B2: Прогноз цены нефти по истории | J2: Пример МоделРиск · Нефть и газ · OG-04
B3: ИСТОРИЯ · Десять лет среднемесячных цен и их логарифмические доходности.
B4: ◂ Исходные данные | J4: Далее: Модели ▸
B6: 1 Месячные цены | F6: 2 Сводка по истории
B7: Синтетические данные. Вставьте свой ряд, начиная с самого раннего значения. | F7: Что видит прогнозист до подбора какой-либо модели.
B8: Месяц | C8: Цена | D8: Логарифмическая доходность | F8: Показатель | G8: Ед. изм. | H8: Значение | J8: Примечание
C9: долл./барр. | D9: в месяц | F9: Месяцев истории | G9: мес. | H9: =COUNT(Hist_Price) -> 120 | J9: Десять лет среднемесячных значений
B10: 42736 | C10: 54 | F10: Первый месяц | H10: =MIN(Hist_Date) -> 42736
B11: 42767 | C11: 54.95 | D11: =LN(C11/C10) -> 0.017439634 | F11: Последний месяц | H11: =MAX(Hist_Date) -> 46357 | J11: Декабрь: прогноз начинается со следующего января
B12: 42795 | C12: 57.11 | D12: =LN(C12/C11) -> 0.038555552 | F12: Последняя цена (начало каждой траектории прогноза) | G12: долл./барр. | H12: =Hist_Last -> 65.46
B13: 42826 | C13: 56.73 | D13: =LN(C13/C12) -> -0.0066760613 | F13: Средняя цена | G13: долл./барр. | H13: =AVERAGE(Hist_Price) -> 58.580417
B14: 42856 | C14: 53.83 | D14: =LN(C14/C13) -> -0.052472239 | F14: Самая низкая цена | G14: долл./барр. | H14: =MIN(Hist_Price) -> 29.43
B15: 42887 | C15: 52.94 | D15: =LN(C15/C14) -> -0.016671736 | F15: Самая высокая цена | G15: долл./барр. | H15: =MAX(Hist_Price) -> 86.2
B16: 42917 | C16: 50.06 | D16: =LN(C16/C15) -> -0.055936911 | F16: Средняя месячная логарифмическая доходность | G16: в месяц | H16: =AVERAGE(Hist_Ret) -> 0.0016172708 | J16: Снос, который предполагало бы случайное блуждание
B17: 42948 | C17: 51.4 | D17: =LN(C17/C16) -> 0.026415886 | F17: Месячная волатильность | G17: в месяц | H17: =STDEV(Hist_Ret) -> 0.076695433 | J17: Стандартное отклонение месячных логарифмических доходностей
B18: 42979 | C18: 57.99 | D18: =LN(C18/C17) -> 0.12063241 | F18: Годовая волатильность | G18: в год | H18: =STDEV(Hist_Ret)*SQRT(12) -> 0.26568077 | J18: Месячная волатильность × √12
B19: 43009 | C19: 56.62 | D19: =LN(C19/C18) -> -0.023908302
B20: 43040 | C20: 54.83 | D20: =LN(C20/C19) -> -0.03212479 | F20: 3 История цен
B21: 43070 | C21: 57.82 | D21: =LN(C21/C20) -> 0.053097247
B22: 43101 | C22: 60.18 | D22: =LN(C22/C21) -> 0.040005335
B23: 43132 | C23: 61.31 | D23: =LN(C23/C22) -> 0.018602891
B24: 43160 | C24: 57.73 | D24: =LN(C24/C23) -> -0.060165993
B25: 43191 | C25: 58.37 | D25: =LN(C25/C24) -> 0.01102509
B26: 43221 | C26: 62.28 | D26: =LN(C26/C25) -> 0.064838288
B27: 43252 | C27: 56.8 | D27: =LN(C27/C26) -> -0.092104021
B28: 43282 | C28: 55.67 | D28: =LN(C28/C27) -> -0.020094924
B29: 43313 | C29: 49.02 | D29: =LN(C29/C28) -> -0.12721302
B30: 43344 | C30: 45.54 | D30: =LN(C30/C29) -> -0.073637317
B31: 43374 | C31: 40.77 | D31: =LN(C31/C30) -> -0.11064454
B32: 43405 | C32: 41.45 | D32: =LN(C32/C31) -> 0.016541365
... B129: 46357 | C129: 65.46 | D129: =LN(C129/C128) -> 0.083766917

Sheet Модели
B2: Прогноз цены нефти по истории | G2: Пример МоделРиск · Нефть и газ · OG-04
B3: МОДЕЛИ · Три модели временных рядов, подобранные к истории цен, оцененные по SIC и взвешенные по данным.
B4: ◂ История | G4: Далее: Прогноз ▸
B6: 1 Модели-кандидаты
B7: По столбцу на модель. Чем меньше информационный критерий, тем лучше подбор с учетом числа параметров.
C8: Случайное блуждание (GBM) | D8: Возврат к среднему (GBMVR) | E8: Возврат к среднему со скачками (GBMAJVR) | G8: Примечание
B9: Номер модели | C9: 1 | D9: 2 | E9: 3 | G9: Используется в VoseDiscrete ниже.
B10: Аргумент подбора: неопределенность параметров | C10: =UseParamUncertainty=1 -> TRUE | D10: =UseParamUncertainty=1 -> TRUE | E10: FALSE | G10: TRUE — подобранные параметры заново разыгрываются при каждом пересчете (переключатель на листе «Исходные данные»); у модели со скачками всегда FALSE (см. ниже)
B11: Аргумент подбора: начальное значение (последняя цена) | C11: =Hist_Last -> 65.46 | D11: =Hist_Last -> 65.46 | E11: =Hist_Last -> 65.46 | G11: Каждая траектория прогноза начинается с последней цены истории
B12: Объект подбора МоделРиск | C12: {=INDEX(_xll.VoseTimeGBMFitObject(Hist_Price,,,C10,FALSE,C11),1)} -> VoseTimeGBM(-0.000867293544879946,0.0746285792774836,65.46,,FALSE) | D12: {=INDEX(_xll.VoseTimeGBMVRFitObject(Hist_Price,D10,D11),1)} -> VoseTimeGBMVR(56.9764371350139,0.0831709919863958,0.0645082839021404,65.46) | E12: {=INDEX(_xll.VoseTimeGBMAJVRFitObject(Hist_Price,E10,E11),1)} -> VoseTimeGBMAJVR(60.3029213526466,0.0618706455737663,0.0599422271806479,0.194499603353664,2.85029751396754E-9,0.0507476536226127,0.37923866940712,65.46) | G12: Подобрано к ценам с листа «История» с двумя аргументами выше (подробнее в примечаниях под таблицей)
B13: SIC (информационный критерий Шварца) | C13: {=_xll.VoseSIC(C12)} -> -264.8977 | D13: {=_xll.VoseSIC(D12)} -> -264.8037 | E13: {=_xll.VoseSIC(E12)} -> -253.76486 | G13: ="VoseSIC: строже всего штрафует за лишние параметры; веса используют его. Лучший (наименьший): "&INDEX(Model_Names,MATCH(MIN(C13:E13),C13:E13,0)) -> VoseSIC: строже всего штрафует за лишние параметры; веса используют его. Лучший (наименьший): Случайное блуждание (GBM)
B14: AIC (информационный критерий Акаике) | C14: {=_xll.VoseAIC(C12)} -> -270.3525 | D14: {=_xll.VoseAIC(D12)} -> -272.95928 | E14: {=_xll.VoseAIC(E12)} -> -272.2773 | G14: ="VoseAIC: более мягкий штраф, для сравнения. Лучший (наименьший): "&INDEX(Model_Names,MATCH(MIN(C14:E14),C14:E14,0)) -> VoseAIC: более мягкий штраф, для сравнения. Лучший (наименьший): Возврат к среднему (GBMVR)
B15: HQIC (критерий Ханнана — Куинна) | C15: {=_xll.VoseHQIC(C12)} -> -268.19892 | D15: {=_xll.VoseHQIC(D12)} -> -269.77014 | E15: {=_xll.VoseHQIC(E12)} -> -265.35321 | G15: ="VoseHQIC: между AIC и SIC, для сравнения. Лучший (наименьший): "&INDEX(Model_Names,MATCH(MIN(C15:E15),C15:E15,0)) -> VoseHQIC: между AIC и SIC, для сравнения. Лучший (наименьший): Возврат к среднему (GBMVR)
B16: ΔSIC (отличие от наименьшего SIC) | C16: =C13-MIN(SIC_All) -> 0 | D16: =D13-MIN(SIC_All) -> 0.094001044 | E16: =E13-MIN(SIC_All) -> 11.132846 | G16: Меньше 2 — слабое свидетельство в пользу одной из двух моделей; больше 6 — сильное.
B17: Априорный вес (лист «Исходные данные») | C17: =Prior_GBM -> 1 | D17: =Prior_VR -> 1 | E17: =Prior_AJ -> 1 | G17: Относительный; равные веса позволяют решать данным.
B18: Поддержка (априорный вес × exp(−ΔSIC / 2)) | C18: =C17*EXP(-C16/2) -> 1 | D18: =D17*EXP(-D16/2) -> 0.9540869 | E18: =E17*EXP(-E16/2) -> 0.003824135 | G18: Свидетельство в пользу каждой модели до нормировки: 1 для наименьшего SIC при априорном весе 1
B19: Вес по данным | C19: =C18/SUM($C$18:$E$18) -> 0.51074844 | D19: =D18/SUM($C$18:$E$18) -> 0.48729839 | E19: =E18/SUM($C$18:$E$18) -> 0.001953171 | G19: Поддержка ÷ общая поддержка, так что веса в сумме дают 100%: приближенная вероятность того, что верна именно эта модель.
B20: Используемый вес | C20: =IF(UseAveraging=1,C19,IF(C9=Best_No,1,0)) -> 0.51074844 | D20: =IF(UseAveraging=1,D19,IF(D9=Best_No,1,0)) -> 0.48729839 | E20: =IF(UseAveraging=1,E19,IF(E9=Best_No,1,0)) -> 0.001953171 | G20: Веса по данным или 100% на лучшую модель, если «Усреднять модели» равно 0.
B22: Номер лучшей отдельной модели (наименьший SIC) | C22: =MATCH(MIN(SIC_All),SIC_All,0) -> 1
B23: Лучшая отдельная модель | C23: {=INDEX(Model_Names,Best_No)} -> Случайное блуждание (GBM)
B24: Выбор МоделРиск: VoseTimeOptimalFitObject, по SIC | C24: {=INDEX(_xll.VoseTimeOptimalFitObject(Fit_Objects,2),1)} -> VoseTimeGBM(-0.000867293544879946,0.0746285792774836,65.46,,FALSE) | G24: Тот же выбор одной функцией.
B25: INDEX(…, 1) оставляет сам объект подбора. В Excel 365 объект подбора также выводит статистику подбора в ячейки под собой, но во время моделирования эти ячейки пусты, поэтому веса рассчитываются через VoseSIC.
B26: Модель со скачками всегда подбирается по наилучшей оценке: веса у нее здесь почти нет, а повторный подбор семи ее параметров в каждой итерации замедлил бы моделирование примерно в 17 раз.
B27: Функция подбора случайного блуждания принимает также необязательные метки времени (не заполнены) и флаг логарифмических доходностей (FALSE: данные — цены, а не логарифмические доходности).
B29: 2 Что предполагает каждая модель
B30: Случайное блуждание (GBM) | C30: Цены блуждают без притяжения; диапазон со временем продолжает расширяться.
B31: Возврат к среднему (GBMVR) | C31: Цены притягиваются к долгосрочному уровню; диапазон выравнивается.
B32: Возврат к среднему со скачками (GBMAJVR) | C32: Возврат к среднему плюс редкие резкие скачки вверх или вниз.
B34: 3 Модель, используемая в этой итерации
B35: VoseDiscrete разыгрывает модель 1, 2 или 3 с вероятностью, равной ее используемому весу. Нажмите F9, чтобы разыграть снова.
B36: Модель, выбранная для этой итерации (номер) | C36: {=_xll.VoseInput("Используемая модель","1 GBM, 2 GBMVR, 3 GBMAJVR")+_xll.VoseDiscrete(Model_No,W_Used)} -> 2 | G36: Байесовское усреднение моделей: каждая модель используется в доле итераций, равной ее весу.
B37: Модель, выбранная для этой итерации | C37: {=INDEX(Model_Names,ModelUsed)} -> Возврат к среднему (GBMVR)
B39: 4 Подобранные параметры
B40: Значения наилучшего подбора (без неопределенности параметров) из VoseTimeGBMFitP, VoseTimeGBMVRFitP и VoseTimeGBMAJVRFitP.
B41: Случайное блуждание (GBM) | C41: Ед. изм. | D41: Значение | G41: Смысл
B42: μ средняя месячная логарифмическая доходность | C42: в месяц | D42: {=_xll.VoseTimeGBMFitP(Hist_Price,,FALSE,FALSE)} -> 0.0016172708 | G42: Снос: среднее изменение логарифма цены за месяц
B43: σ месячная волатильность | C43: в месяц | D43: 0.076695433 | G43: Стандартное отклонение месячных логарифмических доходностей
B44: Годовая волатильность | C44: в год | D44: =D43*SQRT(12) -> 0.26568077 | G44: σ × √12
B46: Возврат к среднему (GBMVR) | C46: Ед. изм. | D46: Значение | G46: Смысл
B47: S* долгосрочный уровень | C47: долл./барр. | D47: {=_xll.VoseTimeGBMVRFitP(Hist_Price,FALSE)} -> 58.926115 | G47: Цена, к которой притягивается ряд
...

Sheet Прогноз
B2: Прогноз цены нефти по истории | O2: Пример МоделРиск · Нефть и газ · OG-04
B3: ПРОГНОЗ · 60 месяцев в этой итерации: по одной траектории из каждой модели и траектория выбранной модели.
B4: ◂ Модели | O4: Далее: Результаты ▸
B6: 1 Месячный прогноз | I6: 2 Среднегодовая цена
B7: Прогноз следует модели, выбранной на листе «Модели». | I7: Среднее двенадцати месячных цен каждого календарного года.
B8: Месяц | C8: Дата | D8: Прогноз | E8: Случайное блуждание | F8: Возврат к среднему | G8: Со скачками | I8: Год | J8: Прогноз | K8: Случайное блуждание | L8: Возврат к среднему | M8: Со скачками | O8: Примечание
D9: долл./барр. | E9: долл./барр. | F9: долл./барр. | G9: долл./барр. | J9: долл./барр. | K9: долл./барр. | L9: долл./барр. | M9: долл./барр.
B10: 1 | C10: =EDATE(DATE(FirstForecastYear,1,1),0) -> 46388 | D10: {=_xll.VoseOutput("Цена, месяц 1","долл./барр.")+CHOOSE(ModelUsed,E10,F10,G10)} -> 53.235942 | E10: {=_xll.VoseTimeSimulate(Obj_GBM)} -> 70.167096 | F10: {=_xll.VoseTimeSimulate(Obj_VR)} -> 53.235942 | G10: {=_xll.VoseTimeSimulate(Obj_AJ)} -> 65.404325 | I10: =FirstForecastYear+0 -> 2027 | J10: {=_xll.VoseOutput("Средняя цена, год 1","долл./барр.")+AVERAGE(D10:D21)} -> 61.363311 | K10: =AVERAGE(E10:E21) -> 72.556595 | L10: =AVERAGE(F10:F21) -> 61.363311 | M10: =AVERAGE(G10:G21) -> 56.470657 | O10: Столбец «Прогноз» — ценовой сценарий: выходы на каждый год.
B11: 2 | C11: =EDATE(DATE(FirstForecastYear,1,1),1) -> 46419 | D11: {=_xll.VoseOutput("Цена, месяц 2","долл./барр.")+CHOOSE(ModelUsed,E11,F11,G11)} -> 50.659314 | E11: 72.92692 | F11: 50.659314 | G11: 58.104728 | I11: =FirstForecastYear+1 -> 2028 | J11: {=_xll.VoseOutput("Средняя цена, год 2","долл./барр.")+AVERAGE(D22:D33)} -> 57.965396 | K11: =AVERAGE(E22:E33) -> 48.203726 | L11: =AVERAGE(F22:F33) -> 57.965396 | M11: =AVERAGE(G22:G33) -> 60.51174
B12: 3 | C12: =EDATE(DATE(FirstForecastYear,1,1),2) -> 46447 | D12: {=_xll.VoseOutput("Цена, месяц 3","долл./барр.")+CHOOSE(ModelUsed,E12,F12,G12)} -> 50.705706 | E12: 76.523067 | F12: 50.705706 | G12: 52.130705 | I12: =FirstForecastYear+2 -> 2029 | J12: {=_xll.VoseOutput("Средняя цена, год 3","долл./барр.")+AVERAGE(D34:D45)} -> 56.284756 | K12: =AVERAGE(E34:E45) -> 33.553014 | L12: =AVERAGE(F34:F45) -> 56.284756 | M12: =AVERAGE(G34:G45) -> 52.57642
B13: 4 | C13: =EDATE(DATE(FirstForecastYear,1,1),3) -> 46478 | D13: {=_xll.VoseOutput("Цена, месяц 4","долл./барр.")+CHOOSE(ModelUsed,E13,F13,G13)} -> 55.176561 | E13: 75.00472 | F13: 55.176561 | G13: 50.437734 | I13: =FirstForecastYear+3 -> 2030 | J13: {=_xll.VoseOutput("Средняя цена, год 4","долл./барр.")+AVERAGE(D46:D57)} -> 56.92175 | K13: =AVERAGE(E46:E57) -> 41.00092 | L13: =AVERAGE(F46:F57) -> 56.92175 | M13: =AVERAGE(G46:G57) -> 50.068332
B14: 5 | C14: =EDATE(DATE(FirstForecastYear,1,1),4) -> 46508 | D14: {=_xll.VoseOutput("Цена, месяц 5","долл./барр.")+CHOOSE(ModelUsed,E14,F14,G14)} -> 59.836306 | E14: 81.259045 | F14: 59.836306 | G14: 50.674356 | I14: =FirstForecastYear+4 -> 2031 | J14: {=_xll.VoseOutput("Средняя цена, год 5","долл./барр.")+AVERAGE(D58:D69)} -> 69.251763 | K14: {=_xll.VoseOutput("Средняя цена 5-го года, случайное блуждание","долл./барр.")+AVERAGE(E58:E69)} -> 41.88132 | L14: {=_xll.VoseOutput("Средняя цена 5-го года, возврат к среднему","долл./барр.")+AVERAGE(F58:F69)} -> 69.251763 | M14: {=_xll.VoseOutput("Средняя цена 5-го года, со скачками","долл./барр.")+AVERAGE(G58:G69)} -> 60.472524 | O14: 5-й год по каждой модели — тоже выход, для сравнения на листе «Результаты».
B15: 6 | C15: =EDATE(DATE(FirstForecastYear,1,1),5) -> 46539 | D15: {=_xll.VoseOutput("Цена, месяц 6","долл./барр.")+CHOOSE(ModelUsed,E15,F15,G15)} -> 64.153105 | E15: 78.07076 | F15: 64.153105 | G15: 53.344261
B16: 7 | C16: =EDATE(DATE(FirstForecastYear,1,1),6) -> 46569 | D16: {=_xll.VoseOutput("Цена, месяц 7","долл./барр.")+CHOOSE(ModelUsed,E16,F16,G16)} -> 63.429171 | E16: 75.408825 | F16: 63.429171 | G16: 54.114785 | I16: 3 Эта итерация
B17: 8 | C17: =EDATE(DATE(FirstForecastYear,1,1),7) -> 46600 | D17: {=_xll.VoseOutput("Цена, месяц 8","долл./барр.")+CHOOSE(ModelUsed,E17,F17,G17)} -> 71.785375 | E17: 71.939241 | F17: 71.785375 | G17: 55.520498 | I17: Прогноз следует модели: | K17: =ModelUsedName -> Возврат к среднему (GBMVR)
B18: 9 | C18: =EDATE(DATE(FirstForecastYear,1,1),8) -> 46631 | D18: {=_xll.VoseOutput("Цена, месяц 9","долл./барр.")+CHOOSE(ModelUsed,E18,F18,G18)} -> 72.000496 | E18: 71.991677 | F18: 72.000496 | G18: 55.969114
B19: 10 | C19: =EDATE(DATE(FirstForecastYear,1,1),9) -> 46661 | D19: {=_xll.VoseOutput("Цена, месяц 10","долл./барр.")+CHOOSE(ModelUsed,E19,F19,G19)} -> 68.799014 | E19: 65.394432 | F19: 68.799014 | G19: 60.995909 | I19: 4 По одной траектории из каждой модели
B20: 11 | C20: =EDATE(DATE(FirstForecastYear,1,1),10) -> 46692 | D20: {=_xll.VoseOutput("Цена, месяц 11","долл./барр.")+CHOOSE(ModelUsed,E20,F20,G20)} -> 63.247137 | E20: 65.231553 | F20: 63.247137 | G20: 62.778396 | I20: Нажмите F9, чтобы увидеть другие траектории: очень непохожие траектории получаются из одной и той же модели.
B21: 12 | C21: =EDATE(DATE(FirstForecastYear,1,1),11) -> 46722 | D21: {=_xll.VoseOutput("Цена, месяц 12","долл./барр.")+CHOOSE(ModelUsed,E21,F21,G21)} -> 63.331602 | E21: 66.761808 | F21: 63.331602 | G21: 58.173072
B22: 13 | C22: =EDATE(DATE(FirstForecastYear,1,1),12) -> 46753 | D22: {=_xll.VoseOutput("Цена, месяц 13","долл./барр.")+CHOOSE(ModelUsed,E22,F22,G22)} -> 61.482105 | E22: 64.518484 | F22: 61.482105 | G22: 59.960686
B23: 14 | C23: =EDATE(DATE(FirstForecastYear,1,1),13) -> 46784 | D23: {=_xll.VoseOutput("Цена, месяц 14","долл./барр.")+CHOOSE(ModelUsed,E23,F23,G23)} -> 59.288302 | E23: 52.905856 | F23: 59.288302 | G23: 56.994938
B24: 15 | C24: =EDATE(DATE(FirstForecastYear,1,1),14) -> 46813 | D24: {=_xll.VoseOutput("Цена, месяц 15","долл./барр.")+CHOOSE(ModelUsed,E24,F24,G24)} -> 68.582695 | E24: 51.033495 | F24: 68.582695 | G24: 57.875136
B25: 16 | C25: =EDATE(DATE(FirstForecastYear,1,1),15) -> 46844 | D25: {=_xll.VoseOutput("Цена, месяц 16","долл./барр.")+CHOOSE(ModelUsed,E25,F25,G25)} -> 65.192837 | E25: 52.6138 | F25: 65.192837 | G25: 65.83341
B26: 17 | C26: =EDATE(DATE(FirstForecastYear,1,1),16) -> 46874 | D26: {=_xll.VoseOutput("Цена, месяц 17","долл./барр.")+CHOOSE(ModelUsed,E26,F26,G26)} -> 67.783064 | E26: 50.304478 | F26: 67.783064 | G26: 69.262973
B27: 18 | C27: =EDATE(DATE(FirstForecastYear,1,1),17) -> 46905 | D27: {=_xll.VoseOutput("Цена, месяц 18","долл./барр.")+CHOOSE(ModelUsed,E27,F27,G27)} -> 63.076357 | E27: 56.520061 | F27: 63.076357 | G27: 65.584486
B28: 19 | C28: =EDATE(DATE(FirstForecastYear,1,1),18) -> 46935 | D28: {=_xll.VoseOutput("Цена, месяц 19","долл./барр.")+CHOOSE(ModelUsed,E28,F28,G28)} -> 59.679856 | E28: 47.651513 | F28: 59.679856 | G28: 62.581253
B29: 20 | C29: =EDATE(DATE(FirstForecastYear,1,1),19) -> 46966 | D29: {=_xll.VoseOutput("Цена, месяц 20","долл./барр.")+CHOOSE(ModelUsed,E29,F29,G29)} -> 52.096747 | E29: 43.960899 | F29: 52.096747 | G29: 56.044525
B30: 21 | C30: =EDATE(DATE(FirstForecastYear,1,1),20) -> 46997 | D30: {=_xll.VoseOutput("Цена, месяц 21","долл./барр.")+CHOOSE(ModelUsed,E30,F30,G30)} -> 52.137898 | E30: 44.213368 | F30: 52.137898 | G30: 58.332058
B31: 22 | C31: =EDATE(DATE(FirstForecastYear,1,1),21) -> 47027 | D31: {=_xll.VoseOutput("Цена, месяц 22","долл./барр.")+CHOOSE(ModelUsed,E31,F31,G31)} -> 49.251589 | E31: 43.839455 | F31: 49.251589 | G31: 62.260458
B32: 23 | C32: =EDATE(DATE(FirstForecastYear,1,1),22) -> 47058 | D32: {=_xll.VoseOutput("Цена, месяц 23","долл./барр.")+CHOOSE(ModelUsed,E32,F32,G32)} -> 47.089266 | E32: 37.350185 | F32: 47.089266 | G32: 55.804267
B33: 24 | C33: =EDATE(DATE(FirstForecastYear,1,1),23) -> 47088 | D33: {=_xll.VoseOutput("Цена, месяц 24","долл./барр.")+CHOOSE(ModelUsed,E33,F33,G33)} -> 49.92404 | E33: 33.533116 | F33: 49.92404 | G33: 55.606689
B34: 25 | C34: =EDATE(DATE(FirstForecastYear,1,1),24) -> 47119 | D34: {=_xll.VoseOutput("Цена, месяц 25","долл./барр.")+CHOOSE(ModelUsed,E34,F34,G34)} -> 58.058073 | E34: 31.721882 | F34: 58.058073 | G34: 53.684798
B35: 26 | C35: =EDATE(DATE(FirstForecastYear,1,1),25) -> 47150 | D35: {=_xll.VoseOutput("Цена, месяц 26","долл./барр.")+CHOOSE(ModelUsed,E35,F35,G35)} -> 47.662226 | E35: 35.441382 | F35: 47.662226 | G35: 54.613874
B36: 27 | C36: =EDATE(DATE(FirstForecastYear,1,1),26) -> 47178 | D36: {=_xll.VoseOutput("Цена, месяц 27","долл./барр.")+CHOOSE(ModelUsed,E36,F36,G36)} -> 48.923518 | E36: 36.807939 | F36: 48.923518 | G36: 56.842545
B37: 28 | C37: =EDATE(DATE(FirstForecastYear,1,1),27) -> 47209 | D37: {=_xll.VoseOutput("Цена, месяц 28","долл./барр.")+CHOOSE(ModelUsed,E37,F37,G37)} -> 51.16572 | E37: 34.528673 | F37: 51.16572 | G37: 53.892894
B38: 29 | C38: =EDATE(DATE(FirstForecastYear,1,1),28) -> 47239 | D38: {=_xll.VoseOutput("Цена, месяц 29","долл./барр.")+CHOOSE(ModelUsed,E38,F38,G38)} -> 58.14809 | E38: 31.787217 | F38: 58.14809 | G38: 48.552832
B39: 30 | C39: =EDATE(DATE(FirstForecastYear,1,1),29) -> 47270 | D39: {=_xll.VoseOutput("Цена, месяц 30","долл./барр.")+CHOOSE(ModelUsed,E39,F39,G39)} -> 56.67687 | E39: 31.317608 | F39: 56.67687 | G39: 50.013819
B40: 31 | C40: =EDATE(DATE(FirstForecastYear,1,1),30) -> 47300 | D40: {=_xll.VoseOutput("Цена, месяц 31","долл./барр.")+CHOOSE(ModelUsed,E40,F40,G40)} -> 58.868929 | E40: 30.367738 | F40: 58.868929 | G40: 56.970196
B41: 32 | C41: =EDATE(DATE(FirstForecastYear,1,1),31) -> 47331 | D41: {=_xll.VoseOutput("Цена, месяц 32","долл./барр.")+CHOOSE(ModelUsed,E41,F41,G41)} -> 63.632255 | E41: 32.21889 | F41: 63.632255 | G41: 55.684667
B42: 33 | C42: =EDATE(DATE(FirstForecastYear,1,1),32) -> 47362 | D42: {=_xll.VoseOutput("Цена, месяц 33","долл./барр.")+CHOOSE(ModelUsed,E42,F42,G42)} -> 65.836525 | E42: 34.501595 | F42: 65.836525 | G42: 54.635048
...

Sheet Результаты
B2: Прогноз цены нефти по истории | R2: Пример МоделРиск · Нефть и газ · OG-04
B3: РЕЗУЛЬТАТЫ · Заполняются автоматически по последнему моделированию. После изменения исходных данных запустите моделирование снова.
B4: ◂ Прогноз
B6: {=IF(ISNUMBER(_xll.VoseSimMean(Avg_Y1)),"✔ Показаны результаты последнего моделирования в этом сеансе Excel. После изменения исходных данных запустите моделирование снова.","▶ Результатов моделирования пока нет. Запустите моделирование на ленте МоделРиск — лист заполнится автоматически.")} -> ✔ Показаны результаты последнего моделирования в этом сеансе Excel. После изменения исходных данных запустите моделирование снова.
B7: =IF(COUNTIF(Checks,"ПРОВЕРИТЬ")=0,"✔ Все проверки модели пройдены («ОК»).","✗ "&COUNTIF(Checks,"ПРОВЕРИТЬ")&" проверок не пройдено («ПРОВЕРИТЬ»): см. раздел «Проверки модели» в конце расчетного листа.") -> ✔ Все проверки модели пройдены («ОК»).
B9: 1 Ценовой сценарий для плана | I9: Месячная цена — полоса от 10-го до 90-го процентиля
B10: Среднегодовая цена прогноза, усредненного по моделям.
B11: Показатель | C11: Ед. изм. | D11: 10-й проц. | E11: Медиана | F11: 90-й проц. | G11: Среднее
B12: =FirstForecastYear+0&" средняя цена" -> 2027 средняя цена | C12: долл./барр. | D12: {=_xll.VoseSimPercentile(Avg_Y1,0.1)} -> 53.726169 | E12: {=_xll.VoseSimPercentile(Avg_Y1,0.5)} -> 64.761597 | F12: {=_xll.VoseSimPercentile(Avg_Y1,0.9)} -> 79.461046 | G12: {=_xll.VoseSimMean(Avg_Y1)} -> 65.904524
B13: =FirstForecastYear+1&" средняя цена" -> 2028 средняя цена | C13: долл./барр. | D13: {=_xll.VoseSimPercentile(Avg_Y2,0.1)} -> 45.644311 | E13: {=_xll.VoseSimPercentile(Avg_Y2,0.5)} -> 63.603171 | F13: {=_xll.VoseSimPercentile(Avg_Y2,0.9)} -> 93.505055 | G13: {=_xll.VoseSimMean(Avg_Y2)} -> 67.406876
B14: =FirstForecastYear+2&" средняя цена" -> 2029 средняя цена | C14: долл./барр. | D14: {=_xll.VoseSimPercentile(Avg_Y3,0.1)} -> 41.971631 | E14: {=_xll.VoseSimPercentile(Avg_Y3,0.5)} -> 62.92775 | F14: {=_xll.VoseSimPercentile(Avg_Y3,0.9)} -> 105.3365 | G14: {=_xll.VoseSimMean(Avg_Y3)} -> 69.654585
B15: =FirstForecastYear+3&" средняя цена" -> 2030 средняя цена | C15: долл./барр. | D15: {=_xll.VoseSimPercentile(Avg_Y4,0.1)} -> 39.442795 | E15: {=_xll.VoseSimPercentile(Avg_Y4,0.5)} -> 62.79715 | F15: {=_xll.VoseSimPercentile(Avg_Y4,0.9)} -> 116.03372 | G15: {=_xll.VoseSimMean(Avg_Y4)} -> 72.521747
B16: =FirstForecastYear+4&" средняя цена" -> 2031 средняя цена | C16: долл./барр. | D16: {=_xll.VoseSimPercentile(Avg_Y5,0.1)} -> 37.172693 | E16: {=_xll.VoseSimPercentile(Avg_Y5,0.5)} -> 62.700398 | F16: {=_xll.VoseSimPercentile(Avg_Y5,0.9)} -> 128.69739 | G16: {=_xll.VoseSimMean(Avg_Y5)} -> 76.358933
B18: 2 Бюджетная цена
B19: Вероятность, что средняя цена года ниже бюджетной цены с листа «Исходные данные».
B20: Показатель | C20: Ед. изм. | D20: Значение
B21: Бюджетная цена (лист «Исходные данные») | C21: долл./барр. | D21: =BudgetPrice -> 60
B22: Год | D22: Вероятность
B23: =FirstForecastYear+0&" средняя ниже бюджетной цены" -> 2027 средняя ниже бюджетной цены | D23: {=_xll.VoseSimProbability(Avg_Y1,BudgetPrice)} -> 0.30266973
B24: =FirstForecastYear+1&" средняя ниже бюджетной цены" -> 2028 средняя ниже бюджетной цены | D24: {=_xll.VoseSimProbability(Avg_Y2,BudgetPrice)} -> 0.41305869
B25: =FirstForecastYear+2&" средняя ниже бюджетной цены" -> 2029 средняя ниже бюджетной цены | D25: {=_xll.VoseSimProbability(Avg_Y3,BudgetPrice)} -> 0.43815618
B26: =FirstForecastYear+3&" средняя ниже бюджетной цены" -> 2030 средняя ниже бюджетной цены | D26: {=_xll.VoseSimProbability(Avg_Y4,BudgetPrice)} -> 0.44725527
B27: =FirstForecastYear+4&" средняя ниже бюджетной цены" -> 2031 средняя ниже бюджетной цены | D27: {=_xll.VoseSimProbability(Avg_Y5,BudgetPrice)} -> 0.44805519
B28: 3 Какая модель? Свидетельства и что каждая модель говорит о 5-м годе | I28: Средняя цена 5-го года по каждой модели
B29: SIC и веса с листа «Модели»; средняя цена 5-го года по каждой модели и по усреднению.
B30: Модель | C30: SIC | D30: ΔSIC | E30: Используемый вес
B31: =INDEX(Model_Names,1) -> Случайное блуждание (GBM) | C31: =INDEX(SIC_All,1) -> -264.8977 | D31: =INDEX(SIC_All,1)-MIN(SIC_All) -> 0 | E31: =INDEX(W_Used,1) -> 0.51074844
B32: =INDEX(Model_Names,2) -> Возврат к среднему (GBMVR) | C32: =INDEX(SIC_All,2) -> -264.8037 | D32: =INDEX(SIC_All,2)-MIN(SIC_All) -> 0.094001044 | E32: =INDEX(W_Used,2) -> 0.48729839
B33: =INDEX(Model_Names,3) -> Возврат к среднему со скачками (GBMAJVR) | C33: =INDEX(SIC_All,3) -> -253.76486 | D33: =INDEX(SIC_All,3)-MIN(SIC_All) -> 11.132846 | E33: =INDEX(W_Used,3) -> 0.001953171
B35: Показатель | C35: Ед. изм. | D35: 10-й проц. | E35: Медиана | F35: 90-й проц. | G35: Среднее
B36: Случайное блуждание (GBM) | C36: долл./барр. | D36: {=_xll.VoseSimPercentile(Avg5_GBM,0.1)} -> 30.390612 | E36: {=_xll.VoseSimPercentile(Avg5_GBM,0.5)} -> 72.860907 | F36: {=_xll.VoseSimPercentile(Avg5_GBM,0.9)} -> 167.77432 | G36: {=_xll.VoseSimMean(Avg5_GBM)} -> 90.254966
B37: Возврат к среднему (GBMVR) | C37: долл./барр. | D37: {=_xll.VoseSimPercentile(Avg5_VR,0.1)} -> 43.473658 | E37: {=_xll.VoseSimPercentile(Avg5_VR,0.5)} -> 59.483045 | F37: {=_xll.VoseSimPercentile(Avg5_VR,0.9)} -> 81.520997 | G37: {=_xll.VoseSimMean(Avg5_VR)} -> 61.420447
B38: Возврат к среднему со скачками (GBMAJVR) | C38: долл./барр. | D38: {=_xll.VoseSimPercentile(Avg5_AJ,0.1)} -> 45.390244 | E38: {=_xll.VoseSimPercentile(Avg5_AJ,0.5)} -> 58.428458 | F38: {=_xll.VoseSimPercentile(Avg5_AJ,0.9)} -> 75.184617 | G38: {=_xll.VoseSimMean(Avg5_AJ)} -> 59.55148
B39: Усреднение моделей (ценовой сценарий) | C39: долл./барр. | D39: {=_xll.VoseSimPercentile(Avg_Y5,0.1)} -> 37.172693 | E39: {=_xll.VoseSimPercentile(Avg_Y5,0.5)} -> 62.700398 | F39: {=_xll.VoseSimPercentile(Avg_Y5,0.9)} -> 128.69739 | G39: {=_xll.VoseSimMean(Avg_Y5)} -> 76.358933
B41: 4 Как читать результаты
B42: • История не позволяет отличить случайное блуждание от возврата к среднему: их значения SIC почти равны, поэтому каждая получает около половины веса. Но о 5-м годе они говорят очень разное. Диапазон случайного блуждания продолжает расширяться; диапазон возврата к среднему выравнивается вокруг долгосрочного уровня.
B43: • Усреднение моделей переносит это расхождение в ценовой сценарий, а не скрывает его. Если взять только лучшую модель (установить «Усреднять модели» в 0), весь план будет опираться на разницу SIC в долю пункта.
B44: • Неопределенность параметров сильнее всего расширяет диапазон случайного блуждания: десять лет данных оставляют снос неопределенным примерно на ±0,7% в месяц, и за пять лет это накапливается. На прогноз с возвратом к среднему она влияет гораздо меньше. Для сравнения установите «Учитывать неопределенность параметров» в 0.
B45: • Вероятность опуститься ниже бюджетной цены — плановый риск этого бюджета: бюджетная цена, которая с вероятностью 40% не будет достигнута в году, — амбициозная цель, а не базовый сценарий.
B46: • Функция МоделРиск VoseTimeBMA выполняет байесовское усреднение подобранных временных рядов одной формулой массива. Эта модель расписывает шаги, чтобы каждый вес можно было увидеть и изменить.
...

Sheet ModelRiskDSN
A1: DSN Files Count: | B1: 0

Sheet ModelRiskSYS1

Sheet ModelRiskCharts
B3: 2
B4: 40
B5: 187
B6: 423
B7: 551
B8: 436
B9: 240
B10: 90
B11: 24
B12: 7
B13: 50
B14: 327
... B692: 3
